BEGIN:VCALENDAR
VERSION:2.0
PRODID:-//Cabot Vermont - ECPv6.15.20//NONSGML v1.0//EN
CALSCALE:GREGORIAN
METHOD:PUBLISH
X-WR-CALNAME:Cabot Vermont
X-ORIGINAL-URL:https://cabotvt.us
X-WR-CALDESC:Events for Cabot Vermont
REFRESH-INTERVAL;VALUE=DURATION:PT1H
X-Robots-Tag:noindex
X-PUBLISHED-TTL:PT1H
BEGIN:VTIMEZONE
TZID:America/New_York
BEGIN:DAYLIGHT
TZOFFSETFROM:-0500
TZOFFSETTO:-0400
TZNAME:EDT
DTSTART:20230312T070000
END:DAYLIGHT
BEGIN:STANDARD
TZOFFSETFROM:-0400
TZOFFSETTO:-0500
TZNAME:EST
DTSTART:20231105T060000
END:STANDARD
BEGIN:DAYLIGHT
TZOFFSETFROM:-0500
TZOFFSETTO:-0400
TZNAME:EDT
DTSTART:20240310T070000
END:DAYLIGHT
BEGIN:STANDARD
TZOFFSETFROM:-0400
TZOFFSETTO:-0500
TZNAME:EST
DTSTART:20241103T060000
END:STANDARD
BEGIN:DAYLIGHT
TZOFFSETFROM:-0500
TZOFFSETTO:-0400
TZNAME:EDT
DTSTART:20250309T070000
END:DAYLIGHT
BEGIN:STANDARD
TZOFFSETFROM:-0400
TZOFFSETTO:-0500
TZNAME:EST
DTSTART:20251102T060000
END:STANDARD
BEGIN:DAYLIGHT
TZOFFSETFROM:-0500
TZOFFSETTO:-0400
TZNAME:EDT
DTSTART:20260308T070000
END:DAYLIGHT
BEGIN:STANDARD
TZOFFSETFROM:-0400
TZOFFSETTO:-0500
TZNAME:EST
DTSTART:20261101T060000
END:STANDARD
BEGIN:DAYLIGHT
TZOFFSETFROM:-0500
TZOFFSETTO:-0400
TZNAME:EDT
DTSTART:20270314T070000
END:DAYLIGHT
BEGIN:STANDARD
TZOFFSETFROM:-0400
TZOFFSETTO:-0500
TZNAME:EST
DTSTART:20271107T060000
END:STANDARD
END:VTIMEZONE
BEGIN:VEVENT
DTSTART;TZID=America/New_York:20260217T190000
DTEND;TZID=America/New_York:20260217T200000
DTSTAMP:20260423T194619
CREATED:20260211T154301Z
LAST-MODIFIED:20260211T154359Z
UID:2754-1771354800-1771358400@cabotvt.us
SUMMARY:Selectboard Forum on Town Meeting Articles
DESCRIPTION:
URL:https://cabotvt.us/event/selectboard-forum-on-town-meeting-articles/
END:VEVENT
BEGIN:VEVENT
DTSTART;TZID=America/New_York:20260212T183000
DTEND;TZID=America/New_York:20260212T200000
DTSTAMP:20260423T194619
CREATED:20260211T154143Z
LAST-MODIFIED:20260212T150825Z
UID:2751-1770921000-1770926400@cabotvt.us
SUMMARY:Meet the Candidates Forum (Sponsored by CCA)
DESCRIPTION:Dinner and Candidate Forum This Evening! \n\n\n\nMeet the Candidates for election to five positions on Town Meeting Day: two school directors running for re-election\, three individuals running for two selectboard seats\, and one candidate for Town Clerk. These candidates met the January 26 statutory deadline to file petitions signed by at least 1% of Cabot registered voters to be included on the Town Meeting ballot\, and will be voted on by Australian Ballot\, not from the floor at Town Meeting.  \n\n\n\nThese candidates are Ellen Cairns and Jason Monaco; Skip Bothfeld\, Fred Ducharme and Michael Walbridge; and Brittany Butler. Come and give them some support and input directly from the community\, and ask any questions you’d like answered. \n\n\n\nPizza and chili provided by Cabot Village Store \n\n\n\nForum sponsored by the Cabot Chronicle\, Cabot Community Association and the Town of Cabot. Join by zoom: https://us04web.zoom.us/j/74604103090?pwd=ib7Er9EjGnQQh9r53CXgn6qe4Ct12t.1 \n\n\n\nThe forum will be recorded and available on any of these websites until Town Meeting Day. Mark your calendar for Town Meeting Day Tuesday\, March 3\, 10:00 a.m. in-person meeting at the Willey Building\, Australian Ballot voting all day from 7:00 a.m. to 7:00 p.m.
URL:https://cabotvt.us/event/meet-the-candidates-forum-sponsored-by-cca/
END:VEVENT
BEGIN:VEVENT
DTSTART;TZID=America/New_York:20260127T180000
DTEND;TZID=America/New_York:20260127T190000
DTSTAMP:20260423T194619
CREATED:20260124T181941Z
LAST-MODIFIED:20260124T181943Z
UID:2729-1769536800-1769540400@cabotvt.us
SUMMARY:Willey Building Committee Meeting
DESCRIPTION:Join by Zoom: https://us02web.zoom.us/j/9867423548?omn=84074451273Agenda: 01/27/26
URL:https://cabotvt.us/event/willey-building-committee-meeting-2/
END:VEVENT
BEGIN:VEVENT
DTSTART;TZID=America/New_York:20260126T170000
DTEND;TZID=America/New_York:20260126T170000
DTSTAMP:20260423T194619
CREATED:20260126T032838Z
LAST-MODIFIED:20260126T032840Z
UID:2732-1769446800-1769446800@cabotvt.us
SUMMARY:Petitions for Office Deadline
DESCRIPTION:Monday January 26th at 5:00 p.m is the deadline to submit petitions for town office. There is a possibility that we may not be in the office tomorrow due to the snow storm. However Shirley\, the assistant town clerk will more than likely be able to be at the office. If for some reason you find we are not in\, please put your petition in the box located to the right of the door (close to the bulletin board). \n\n\n\nIf you have any questions\, you can call the office 563-2279 or my cell 279-1524. \n\n\n\nPlease stay safe. \n\n\n\nBetty RitterTown Clerk
URL:https://cabotvt.us/event/petitions-for-office-deadline/
END:VEVENT
BEGIN:VEVENT
DTSTART;TZID=America/New_York:20260122T133000
DTEND;TZID=America/New_York:20260122T140000
DTSTAMP:20260423T194619
CREATED:20260121T205430Z
LAST-MODIFIED:20260121T205441Z
UID:2721-1769088600-1769090400@cabotvt.us
SUMMARY:Special Selectboard Meeting
DESCRIPTION:https://us02web.zoom.us/j/9867423548?omn=84074451273Agenda: 01/22/26 – Special
URL:https://cabotvt.us/event/2721/
END:VEVENT
BEGIN:VEVENT
DTSTART;TZID=America/New_York:20260115T190000
DTEND;TZID=America/New_York:20260115T203000
DTSTAMP:20260423T194619
CREATED:20260113T203621Z
LAST-MODIFIED:20260113T203657Z
UID:2697-1768503600-1768509000@cabotvt.us
SUMMARY:West Hill Pond Dam Emergency Action Planning
DESCRIPTION:The Town of Cabot will be hosting an informational meeting regarding the West Hill Pond Dam and the Emergency Action Plan that was submitted to the Vermont Department of Dam Safety on Thursday January 15th at 7 pm. The event will be moderated by Jeanne Johnson. The in-person event will ve held in the Selectboard meeting room on the 2nd floor of the Wiley Building. \n\n\n\n \n\n\n\nJoin via Zoom: https://us02web.zoom.us/j/9867423548?omn=84074451273View Emergency Action Plan
URL:https://cabotvt.us/event/2697/
END:VEVENT
BEGIN:VEVENT
DTSTART;TZID=America/New_York:20260114T183000
DTEND;TZID=America/New_York:20260114T193000
DTSTAMP:20260423T194619
CREATED:20260110T161749Z
LAST-MODIFIED:20260110T161750Z
UID:2695-1768415400-1768419000@cabotvt.us
SUMMARY:Flood Resiliency Task Force Meeting
DESCRIPTION:Agenda: 1/14/26Zoom Only Meeting – Info is posted in the agenda.
URL:https://cabotvt.us/event/flood-resiliency-task-force-meeting/
END:VEVENT
BEGIN:VEVENT
DTSTART;TZID=America/New_York:20260112T190000
DTEND;TZID=America/New_York:20260112T200000
DTSTAMP:20260423T194619
CREATED:20260110T161630Z
LAST-MODIFIED:20260110T161632Z
UID:2693-1768244400-1768248000@cabotvt.us
SUMMARY:Conservation Committee Meeting
DESCRIPTION:Agenda: 1/12/26 \n\n\n\nZoom Only Meeting – Info is posted in the agenda.
URL:https://cabotvt.us/event/conservation-committee-meeting/
END:VEVENT
BEGIN:VEVENT
DTSTART;TZID=America/New_York:20260122T133000
DTEND;TZID=America/New_York:20260122T140000
DTSTAMP:20260423T194619
CREATED:20231016T041847Z
LAST-MODIFIED:20260121T205350Z
UID:1548-1769088600-1769090400@cabotvt.us
SUMMARY:Special Selectboard Meeting
DESCRIPTION:https://us02web.zoom.us/j/9867423548?omn=84074451273Agenda: 01/22/26 – Special
URL:https://cabotvt.us/event/selectboard-meeting/
END:VEVENT
BEGIN:VEVENT
DTSTART;TZID=America/New_York:20251211T190000
DTEND;TZID=America/New_York:20251211T203000
DTSTAMP:20260423T194619
CREATED:20251208T130823Z
LAST-MODIFIED:20251210T200938Z
UID:2640-1765479600-1765485000@cabotvt.us
SUMMARY:Budget Forum
DESCRIPTION:Want to know what the selectboard is proposing in next year’s Town budget?   If you didn’t attend every budget meeting since October\, would you like to catch up in just an hour or so? \n\n\n\nNext Thursday\, December 11\, Zoom in or come in at 7 pm at the Willey Building if you want to know how municipal finances will shape Fiscal Year 2027.  \n\n\n\nThe budget will be finalized on December 16\, in preparation for Town Meeting.  You can provide feedback and have your say before it’s locked in.  Once the budget is finalized\, the only option voters will have is “yes” or “no”.  This is the last opportunity to recommend specific changes.  The selectboard wants to hear from voters\, and asked for this forum.  Snacks provided. \n\n\n\nPlease join us.  Budget figures will be available in print and on-screen for those attending in person\, and figures will be preloaded onto the computer so they can be presented in readable format for those participating via Zoom.  No RSVP required – just come in or sign in.If you would like to review the draft budget and related documents before the forum you may do so here: https://cabotvt.us/draft-budget-available-for-review/Zoom Link: https://us02web.zoom.us/j/9867423548?omn=84074451273
URL:https://cabotvt.us/event/budget-forum/
END:VEVENT
BEGIN:VEVENT
DTSTART;TZID=America/New_York:20251120T170000
DTEND;TZID=America/New_York:20251120T170000
DTSTAMP:20260423T194619
CREATED:20251110T190305Z
LAST-MODIFIED:20251110T190308Z
UID:2598-1763658000-1763658000@cabotvt.us
SUMMARY:Property Taxes Due by 5pm
DESCRIPTION:
URL:https://cabotvt.us/event/property-taxes-due-by-5pm/
END:VEVENT
BEGIN:VEVENT
DTSTART;TZID=America/New_York:20251111T000000
DTEND;TZID=America/New_York:20251111T235959
DTSTAMP:20260423T194619
CREATED:20251110T190154Z
LAST-MODIFIED:20251110T190158Z
UID:2596-1762819200-1762905599@cabotvt.us
SUMMARY:Town Offices Closed for Veterans Day
DESCRIPTION:Town of Cabot offices will be closed for Veterans Day – Normal hours resume on Wednesday November 12th.
URL:https://cabotvt.us/event/town-offices-closed-for-veterans-day/
END:VEVENT
BEGIN:VEVENT
DTSTART;TZID=America/New_York:20251104T070000
DTEND;TZID=America/New_York:20251104T190000
DTSTAMP:20260423T194619
CREATED:20251030T194721Z
LAST-MODIFIED:20251030T194727Z
UID:2568-1762239600-1762282800@cabotvt.us
SUMMARY:General Election
DESCRIPTION:Location: 3084 Main St Cabot VT \nPolls are open 7am-7pm and you may register to vote same day.Please see sample ballots by clicking below:Sample Career Center Ballot Sample Town Ballot
URL:https://cabotvt.us/event/general-election-2/
END:VEVENT
BEGIN:VEVENT
DTSTART;TZID=America/New_York:20251030T090000
DTEND;TZID=America/New_York:20251030T090000
DTSTAMP:20260423T194619
CREATED:20251016T172213Z
LAST-MODIFIED:20251016T172215Z
UID:2548-1761814800-1761814800@cabotvt.us
SUMMARY:Request for Bids: Lovely Road Bridge
DESCRIPTION:The Town of Cabot is requesting Bids for the construction of the following Project: FEMA CONTRACT 1- LOVELY ROAD\, BRIDGE 25Bids for the construction of the Project will be received at the Town Municipal Offices located at 3084 Main Street\, Cabot\, Vermont 05647\, until October 30\, 2025 at 9:00 a.m. At that time the Bids received will be publicly opened and read. The final decision on award will be completed by the Selectboard at a subsequent meeting. \n\n\n\nThe Project includes the following Work:Removal of existing concrete bridge\, installation of concrete foundation\, precast concrete arch structure with precast headwalls/wingwalls\, rock armoring\, roadway construction and associated work.  The Project has a contractual duration of 90 days to substantial completion (excluding structure procurement). The construction cost estimate range is $1\,000\,000 to $1\,600\,000. \n\n\n\nObtaining the Bidding Documents: \n\n\n\nThe Issuing Office for the Bidding Documents is:East Engineering\, PLC Richmond\, Vermont \n\n\n\nPartial sets of Bidding Documents will not be available from the Issuing Office. Neither Owner nor Engineer will be responsible for full or partial sets of Bidding Documents\, including addenda\, if any\, obtained from sources other than the Issuing Office. \n\n\n\nPDF sets of the Bidding Documents are available free of charge. \n\n\n\nPre-bid Conference:A mandatory pre-bid conference for the Project will be held on October 20\, 2025 at 9:00 a.m. at the Lovely Road Site (approximately 200 yards south of the intersection with Old Route 2/44.360736\, -72.277340). Bids willnot be accepted from Bidders that do not attend the mandatory pre-bid conference. \n\n\n\nInstructions to Bidders: \n\n\n\nFor all further requirements regarding bid submittal\, qualifications\, procedures\, and contract award\, refer to the Instructions to Bidders that are included in the Bidding Documents. \n\n\n\nThis Advertisement is issued by: Town of CabotEngineer: East Engineering\, PLC
URL:https://cabotvt.us/event/request-for-bids-lovely-road-bridge/
END:VEVENT
BEGIN:VEVENT
DTSTART;TZID=America/New_York:20251023T180000
DTEND;TZID=America/New_York:20251023T190000
DTSTAMP:20260423T194619
CREATED:20250917T192339Z
LAST-MODIFIED:20251022T053500Z
UID:2504-1761242400-1761246000@cabotvt.us
SUMMARY:Planning Commission Meeting
DESCRIPTION:Agenda: 10/23/25Join Via Zoom: https://us02web.zoom.us/j/4638617646?omn=88455304518
URL:https://cabotvt.us/event/planning-commission-meeting/
END:VEVENT
BEGIN:VEVENT
DTSTART;TZID=America/New_York:20251014T190000
DTEND;TZID=America/New_York:20251014T200000
DTSTAMP:20260423T194619
CREATED:20251010T215228Z
LAST-MODIFIED:20251012T152743Z
UID:2543-1760468400-1760472000@cabotvt.us
SUMMARY:Selectboard Informational Hearing
DESCRIPTION:Agenda
URL:https://cabotvt.us/event/selectboard-informational-hearing/
END:VEVENT
BEGIN:VEVENT
DTSTART;TZID=America/New_York:20250927T080000
DTEND;TZID=America/New_York:20250927T120000
DTSTAMP:20260423T194619
CREATED:20250918T213217Z
LAST-MODIFIED:20250918T213220Z
UID:2515-1758960000-1758974400@cabotvt.us
SUMMARY:Cabot Bulky Item Disposal Day
DESCRIPTION:CABOT RESIDENTS ONLY – BULKY ITEM DISPOSAL \n\n\n\nSaturday\, September 27\, 2025\n\n\n\nHours: 8:00 am-12:00 pm \n\n\n\n153 Sawmill Road\, Cabot\, VT \n\n\n\n \n\n\n\nAcceptable materials include\, but are not limited to: \n\n\n\n\nMattresses\n\n\n\nBox Springs\n\n\n\nRugs & Carpet Treated Wood\n\n\n\nPlywood           \n\n\n\nCouches\n\n\n\nChairs\n\n\n\nToilets \n\n\n\nSinks\n\n\n\nLarge Kid’s Toys\n\n\n\nSheetrock Fiberglass \n\n\n\nPainted Wood\n\n\n\nLarge Appliances\n\n\n\n\nUnacceptable materials include\, but are not limited to: \n\n\n\nCars\, boats\, campers\, hazardous wastes\, and household trash.  \n\n\n\nIf it fits into a trash bag\, it is not bulky waste. \n\n\n\n \n\n\n\nTires are acceptable for a fee: up to 17” $5.00; \n\n\n\n Larger tires: 18-20” $7.00; (please no tractor tires!) \n\n\n\nThere will be a container for metal materials. \n\n\n\n \n\n\n\nLeaving items at the site at other times is considered illegal disposal and is subject to enforcement action. \n\n\n\n \n\n\n\nFor questions concerning acceptable materials\, recycling opportunities\, and household hazardous waste disposal please contact John Cookson\, 802-279-2466 or Cabot Town Clerk’s office 802-563-2279.  \n\n\n\n \n\n\n\nLimited to Cabot Residents Only  \n\n\n\n(We will be checking residency!) \n\n\n\nThere is a limit of one pick-up truckload per household \n\n\n\nPlease no businesses 
URL:https://cabotvt.us/event/cabot-bulky-item-disposal-day/
END:VEVENT
BEGIN:VEVENT
DTSTART;TZID=America/New_York:20250916T173000
DTEND;TZID=America/New_York:20250916T180000
DTSTAMP:20260423T194619
CREATED:20250916T125346Z
LAST-MODIFIED:20250916T125349Z
UID:2491-1758043800-1758045600@cabotvt.us
SUMMARY:Public Hearing: Cabot Flood Mitigation – North Tributary
DESCRIPTION:Zoom Meeting Link: https://us02web.zoom.us/j/6331160345 \n\n\n\nAgenda: 09/16/25PUBLIC HEARING NOTICE \n\n\n\nThe Town of Cabot is considering making application to the State of Vermont for a CDBG Disaster Recovery Implementation Grant under the Vermont Community Development Program. A public hearing will be held at 5:30 pm on September 16\, 2025 at the Willey Building\, 3084 Main Street (2nd floor Meeting Room)\, Cabot to obtain the views of citizens on community development\, to furnish information concerning the amount of funds available and the range of community development activities that may be undertaken under this program\, the impact to any historic and archaeological resources that may be affected by the proposed project\, and to give affected citizens the opportunity to examine the proposed statement of projected use of these funds. The proposal is to apply for $1\,298\,000 in CDBG-DR funds which will be used to accomplish the following activities: \n\n\n\nThis project involves the North Tributary in Cabot Village and follows the engineering recommendations to replace the existing 80-year-old bridge with an elevated bridge that will provide greater clearance and headspace for passage of stormwater flows and flood debris. This will avoid the flooding of residences along Main Street and damage to the Town’s recreational fields. The project also involves the creation of a flood bench near the new bridge and creation of riparian buffer areas as additional flood mitigation efforts. The first phase of this project will involve final design\, followed by construction and post-construction activities.Copies of the proposed application are available at the Cabot Town Clerk’s Office\, 3084 Main Street\, Cabot and may be viewed during the hours of 9:00 am to 4:30 pm starting on September 10\, Monday – Thursday. \n\n\n\nShould you require any special accommodation\, please contact Betty Ritter\, Town Clerk at 802-563-2279 to ensure appropriate accommodation is arranged. For the hearing impaired please call (TTY) # 1-800-253-0191.
URL:https://cabotvt.us/event/public-hearing-cabot-flood-mitigation-north-tributary/
END:VEVENT
BEGIN:VEVENT
DTSTART;TZID=America/New_York:20250818T184500
DTEND;TZID=America/New_York:20250818T193000
DTSTAMP:20260423T194619
CREATED:20250814T214536Z
LAST-MODIFIED:20250814T214538Z
UID:2467-1755542700-1755545400@cabotvt.us
SUMMARY:Board of Civil Authority Meeting - Appeal of Lister's Assessment
DESCRIPTION:Join Zoom Meeting: https://us02web.zoom.us/j/6331160345 \n\n\n\nAgenda
URL:https://cabotvt.us/event/board-of-civil-authority-meeting-appeal-of-listers-assessment/
END:VEVENT
BEGIN:VEVENT
DTSTART;TZID=America/New_York:20250818T173000
DTEND;TZID=America/New_York:20250818T183000
DTSTAMP:20260423T194619
CREATED:20250814T214249Z
LAST-MODIFIED:20250814T214251Z
UID:2465-1755538200-1755541800@cabotvt.us
SUMMARY:Board of Civil Authority Meeting - Review Voter Checklist
DESCRIPTION:Join Zoom Meeting: https://us02web.zoom.us/j/6331160345 \n\n\n\nAgenda
URL:https://cabotvt.us/event/board-of-civil-authority-meeting-review-voter-checklist/
END:VEVENT
BEGIN:VEVENT
DTSTART;TZID=America/New_York:20250327T183000
DTEND;TZID=America/New_York:20250327T190000
DTSTAMP:20260423T194619
CREATED:20250325T172729Z
LAST-MODIFIED:20250325T172729Z
UID:2370-1743100200-1743102000@cabotvt.us
SUMMARY:Development Review Board Hearing - Deborah and Roland Geissler - Variance for Stand Alone Garage
DESCRIPTION:Agenda: DRB Hearing (Geissler) 3/27/25 \nJoin Zoom Meeting\nhttps://us02web.zoom.us/j/6331160345?pwd=UHFVQTN4ZTh6TUhSMUJ4Q21SdjVoZz09\nMeeting ID: 633 116 0345
URL:https://cabotvt.us/event/development-review-board-hearing-deborah-and-roland-geissler-variance-for-stand-alone-garage/
END:VEVENT
BEGIN:VEVENT
DTSTART;TZID=America/New_York:20250327T180000
DTEND;TZID=America/New_York:20250327T183000
DTSTAMP:20260423T194619
CREATED:20250325T172539Z
LAST-MODIFIED:20250325T172539Z
UID:2367-1743098400-1743100200@cabotvt.us
SUMMARY:Development Review Board Hearing - Stephen and Kathleen Demars - Addition to Existing Deck
DESCRIPTION:Agenda: DRB Hearing Agenda (Demars) 3/27/25 \nJoin Zoom Meeting\nhttps://us02web.zoom.us/j/6331160345?pwd=UHFVQTN4ZTh6TUhSMUJ4Q21SdjVoZz09\nMeeting ID: 633 116 0345
URL:https://cabotvt.us/event/development-review-board-hearing-stephen-and-kathleen-demars-addition-to-existing-deck/
END:VEVENT
BEGIN:VEVENT
DTSTART;TZID=America/New_York:20250304T100000
DTEND;TZID=America/New_York:20250304T140000
DTSTAMP:20260423T194619
CREATED:20250122T165248Z
LAST-MODIFIED:20250122T165248Z
UID:2260-1741082400-1741096800@cabotvt.us
SUMMARY:Town Meeting
DESCRIPTION:10:00 a.m. on March 4\, 2024 in the Willey Building Auditorium
URL:https://cabotvt.us/event/town-meeting/
END:VEVENT
BEGIN:VEVENT
DTSTART;TZID=America/New_York:20250220T190000
DTEND;TZID=America/New_York:20250220T210000
DTSTAMP:20260423T194619
CREATED:20250212T151244Z
LAST-MODIFIED:20250212T151244Z
UID:2305-1740078000-1740085200@cabotvt.us
SUMMARY:Public Informational Hearing - Town Meeting Articles
DESCRIPTION:NOTICE \nThe Cabot Select Board \nWe will meet on Thursday\, February 20\, 2025 at 7:00 PM via Zoom or in person at the Willey Building Auditorium for a Public Informational Hearing per 17 V.S.A. §2680 (h) regarding Articles that will be voted on by Australian Ballot on Tuesday\, March 4\, 2025 \n  \nArt. 7.  Shall the voters of the Town of Cabot appropriate the sum of $946\,044 to defray the General Expenses of the Town\, with an estimated $113\,089 to come from income and $832\,955 from local taxes?  [Australian Ballot] \n\nArt. 8.  Shall the voters of the Town of Cabot appropriate the sum of $978\,712 to repair and maintain the Highways of the Town including summer\, winter\, and special treatment\, of which an estimated $160\,000 is to come from income and $818\,712 from local taxes?  [Australian Ballot] \n\nArt. 9.  Shall the voters of the Town of Cabot appropriate the sum of $5\,234.35 to the Cabot Public Library to support the full budget request put forward by the Cabot Library Board of Trustees for the coming year? The Cabot Selectboard has made the decision to cut the Library budget\, significantly reducing the modest budget request put forward by the Library Trustees (a 4.8% increase\, exclusively to cover the cost of inflation\, increased health insurance\, and small cost-of-living increases for staff). This additional allocation would cost taxpayers an estimated $2.00/$100\,000 household worth. A vote against the measure will result in the need to cut programs for children and adults and dramatically reduce the purchase of new books and other materials. The total budget amount ($122\,234.35) has been approved and put forward by the Library Trustees\, as required by Vermont Law. (Australian Ballot) \n\nArt. 10. Shall the voters of the Town of Cabot exempt the land and building previously owned by the Town and known as The Masonic Hall\, now owned by Neighbors in Action (501 (c)(3))\, a non-profit organization\, from real property taxes for a period of five (5) years\, pursuant to 32 V.S.A. §3840? (Australian Ballot) \n\nArt. 11.  Shall the voters adopt the new CCIF (Cabot Community Investment Fund) Plan as printed in this Town Report\, which calls for the consolidation of the UDAG and Scholarship Funds in a single CCIF Fund\, and appropriate the consolidated CCIF Fund for the purposes of the plan? (Australian Ballot) \n\nArt. 12.  Shall the voters of the Town of Cabot approve the revised 2025 Cabot Town Plan as approved by the Cabot selectboard on January 7\, 2025. (Australian Ballot) \n\nArt. 13.  Shall the voters of the Town of Cabot approve an appropriation in the amount of $2\,132 for the support of Fairbanks Museum to provide services to residents of the Town of Cabot? (Australian Ballot) \n\nArt. 14.  Shall the voters of the Town of Cabot forgive the outstanding balance (approximately $25\,721) of a UDAG Loan of $50\,000 made to Cabot Commons\, Inc.? (Australian Ballot) \n  \nTown of Cabot is inviting you to a scheduled Zoom meeting.\nTopic: Public Informational Hearing; Time: February 20\, 2025 7:00 PM Eastern Time (US and Canada)\nhttps://us02web.zoom.us/j/6331160345?pwd=UHFVQTN4ZTh6TUhSMUJ4Q21SdjVoZz09\nMeeting ID: 633 116 0345\nOne tap mobile\n+16465588656\,\,6331160345#\,#\,276570# US (New York)\nDial by your location +1 646 558 8656 US (New York)
URL:https://cabotvt.us/event/public-informational-hearing-town-meeting-articles/
END:VEVENT
BEGIN:VEVENT
DTSTART;TZID=America/New_York:20250219T180000
DTEND;TZID=America/New_York:20250219T200000
DTSTAMP:20260423T194619
CREATED:20250203T172517Z
LAST-MODIFIED:20250206T175623Z
UID:2293-1739988000-1739995200@cabotvt.us
SUMMARY:Meet the Candidates Forum - RESCHEDULED
DESCRIPTION:MEET THE CANDIDATES FORUM\n\n\nRESCHEDULED TO WEDNESDAY FEB 19th Due to Weather\n6:00 – 8:00 p.m.\n\n\nWilley Building\n\n\n\nShare a Meal\n\n\nInformal Meet & Greet\n\n\nModerated Forum\n\n\n\nCome for dinner and meet and hear from the candidates for Cabot School Board and Selectboard\n\n\nDinner provided by Stag & Thistle. Forum sponsored by the Cabot Chronicle\, Cabot Community Association and the Town of Cabot.\n\n\n\nRemote participation via Zoom is available\, and the forum will be recorded and available on the Cabot Community Association website (CabotVermont.org) and Cabot Chronicle website (CabotChronicle.org).\n\n\n\nhttps://us06web.zoom.us/j/88350426148?pwd=8NrGmFM1XfCNCgsaGBbnkZ3FjnrElB.1\n\n\nMeeting ID: 883 5042 6148\n\n\nPasscode: 605332
URL:https://cabotvt.us/event/meet-the-candidates-forum/
END:VEVENT
BEGIN:VEVENT
DTSTART;TZID=America/New_York:20250123T180000
DTEND;TZID=America/New_York:20250123T200000
DTSTAMP:20260423T194619
CREATED:20250122T165058Z
LAST-MODIFIED:20250122T165131Z
UID:2257-1737655200-1737662400@cabotvt.us
SUMMARY:Community Forum on Town Meeting Decisions
DESCRIPTION:You are invited to a Community Forum on Town Meeting Decisions Thursday\, January 23\, at 6 p.m. in the Willey Building Auditorium\, by the same group of community members who worked last year to bring the benefits of in-person town meeting to the Australian Ballot voting process.  We plan to discuss the most controversial decisions to be voted on at Town Meeting 2025 on March 4.  Since the Town Meeting Warning will be finalized next week and early voting begins February 12\, this is the last chance for town voters to hear from policy makers about these items and respond before the only options are to vote “yes” or “no.” \nZoom option is also available – please see below for connection info! \nPizza and drinks will be served\, and the schedule is as follows: \n6:00 p.m. Welcome\, Grab Food\, Find a Seat \n6:15 p.m. Proposed Revision to CCIF (former UDAG) Plan \n6:45 p.m. Cabot Commons UDAG Loan Forgiveness Request \n7:15 p.m. Changes from prior year expenses: \n\nTown Budget\nSchool Budget\n\n8:00 p.m. Adjourn \nPlease come join us for a respectful\, informative evening of discussion of the decisions to be made for our town for the coming year\, and provide input to our elected decision-makers before all questions to be voted on are finalized. \nTopic: Community Forum on Town Meeting Decisions\nTime: Jan 23\, 2025 06:00 PM Eastern Time (US and Canada)\nJoin Zoom Meeting\nhttps://us06web.zoom.us/j/82043387521?pwd=rHVgz7HcYbtFXBBagQ81AQ2iuzwFGY.1 \nMeeting ID: 820 4338 7521\nPasscode: 441234
URL:https://cabotvt.us/event/2257/
END:VEVENT
BEGIN:VEVENT
DTSTART;TZID=America/New_York:20250107T190000
DTEND;TZID=America/New_York:20250107T210000
DTSTAMP:20260423T194619
CREATED:20241218T184354Z
LAST-MODIFIED:20241218T184354Z
UID:2230-1736276400-1736283600@cabotvt.us
SUMMARY:Selectboard Hearing: Cabot Town Plan
DESCRIPTION:Agenda and Zoom info coming soon!
URL:https://cabotvt.us/event/selectboard-hearing-cabot-town-plan/
END:VEVENT
BEGIN:VEVENT
DTSTART;TZID=America/New_York:20241202T180000
DTEND;TZID=America/New_York:20241202T200000
DTSTAMP:20260423T194619
CREATED:20241120T074129Z
LAST-MODIFIED:20241120T074129Z
UID:2187-1733162400-1733169600@cabotvt.us
SUMMARY:Cabot Planning Commission - Proposed Town Plan - Public Hearing
DESCRIPTION:To join the meeting remotely\, use this link:  \nhttps://us02web.zoom.us/j/4638617646?omn=88455304518 Meeting ID: 463 861 7646 \nCabot Town Plan Update – DRAFT
URL:https://cabotvt.us/event/cabot-planning-commission-proposed-town-plan-public-hearing/
END:VEVENT
BEGIN:VEVENT
DTSTART;TZID=America/New_York:20241121T183000
DTEND;TZID=America/New_York:20241121T193000
DTSTAMP:20260423T194619
CREATED:20241121T224012Z
LAST-MODIFIED:20241121T224012Z
UID:2189-1732213800-1732217400@cabotvt.us
SUMMARY:Development Review Board Hearing - Appeal of Privacy Violation
DESCRIPTION:Town of Cabot Development Review Board is inviting you to a scheduled Zoom or in person meeting \nTopic: Appeal of Privacy Violation – 3087 Main Street \nTime: Thursday\, November 21\, 2024\, 6:30 PM Eastern Time (US and Canada) \nJoin Zoom Meeting \nhttps://us02web.zoom.us/j/6331160345?pwd=UHFVQTN4ZTh6TUhSMUJ4Q21SdjVoZz09 \nMeeting ID: 633 116 0345 \nAgenda: 11/21/24
URL:https://cabotvt.us/event/development-review-board-hearing-appeal-of-privacy-violation/
END:VEVENT
BEGIN:VEVENT
DTSTART;TZID=America/New_York:20241107T180000
DTEND;TZID=America/New_York:20241107T190000
DTSTAMP:20260423T194619
CREATED:20241104T151842Z
LAST-MODIFIED:20241104T151842Z
UID:2146-1731002400-1731006000@cabotvt.us
SUMMARY:Board of Abatement Hearing - Michael Malone
DESCRIPTION:Agenda: 11/07/24 BoA Malone Agenda \nJoin via Zoom: \nTopic: Board of Abatement Hearing\, Malone Time: Thursday\, November 7\, 2024\, 6:00 PM Eastern Time (US and Canada)Join Zoom\nMeeting: https://us02web.zoom.us/j/6331160345?pwd=UHFVQTN4ZTh6TUhSMUJ4Q21SdjVoZz09\nMeeting ID: 633 116 0345\nOne tap mobile +16465588656\,\,6331160345#\,#\,276570# US (New York) Dial by your location +1 646 558 8656 US (New York
URL:https://cabotvt.us/event/board-of-abatement-hearing-michael-malone/
END:VEVENT
END:VCALENDAR