BEGIN:VCALENDAR
VERSION:2.0
PRODID:-//Cabot Vermont - ECPv6.15.20//NONSGML v1.0//EN
CALSCALE:GREGORIAN
METHOD:PUBLISH
X-WR-CALNAME:Cabot Vermont
X-ORIGINAL-URL:https://cabotvt.us
X-WR-CALDESC:Events for Cabot Vermont
REFRESH-INTERVAL;VALUE=DURATION:PT1H
X-Robots-Tag:noindex
X-PUBLISHED-TTL:PT1H
BEGIN:VTIMEZONE
TZID:America/New_York
BEGIN:DAYLIGHT
TZOFFSETFROM:-0500
TZOFFSETTO:-0400
TZNAME:EDT
DTSTART:20220313T070000
END:DAYLIGHT
BEGIN:STANDARD
TZOFFSETFROM:-0400
TZOFFSETTO:-0500
TZNAME:EST
DTSTART:20221106T060000
END:STANDARD
BEGIN:DAYLIGHT
TZOFFSETFROM:-0500
TZOFFSETTO:-0400
TZNAME:EDT
DTSTART:20230312T070000
END:DAYLIGHT
BEGIN:STANDARD
TZOFFSETFROM:-0400
TZOFFSETTO:-0500
TZNAME:EST
DTSTART:20231105T060000
END:STANDARD
BEGIN:DAYLIGHT
TZOFFSETFROM:-0500
TZOFFSETTO:-0400
TZNAME:EDT
DTSTART:20240310T070000
END:DAYLIGHT
BEGIN:STANDARD
TZOFFSETFROM:-0400
TZOFFSETTO:-0500
TZNAME:EST
DTSTART:20241103T060000
END:STANDARD
BEGIN:DAYLIGHT
TZOFFSETFROM:-0500
TZOFFSETTO:-0400
TZNAME:EDT
DTSTART:20250309T070000
END:DAYLIGHT
BEGIN:STANDARD
TZOFFSETFROM:-0400
TZOFFSETTO:-0500
TZNAME:EST
DTSTART:20251102T060000
END:STANDARD
END:VTIMEZONE
BEGIN:VTIMEZONE
TZID:UTC
BEGIN:STANDARD
TZOFFSETFROM:+0000
TZOFFSETTO:+0000
TZNAME:UTC
DTSTART:20220101T000000
END:STANDARD
END:VTIMEZONE
BEGIN:VEVENT
DTSTART;TZID=America/New_York:20241105T070000
DTEND;TZID=America/New_York:20241105T190000
DTSTAMP:20260423T195235
CREATED:20241031T171514Z
LAST-MODIFIED:20241031T171514Z
UID:2142-1730790000-1730833200@cabotvt.us
SUMMARY:General Election
DESCRIPTION:Polls are open from 7:00 a.m. to 7:00 p.m.
URL:https://cabotvt.us/event/general-election/
END:VEVENT
BEGIN:VEVENT
DTSTART;TZID=America/New_York:20241104T180000
DTEND;TZID=America/New_York:20241104T200000
DTSTAMP:20260423T195235
CREATED:20241031T141411Z
LAST-MODIFIED:20241031T141600Z
UID:2137-1730743200-1730750400@cabotvt.us
SUMMARY:Village Tributary Study Recommendations: Public Meeting + Question & Answer Session
DESCRIPTION:The Flood Resiliency Task Force has received a report and recommendations from our engineering consultants on mitigating future flood damage in the village. \nCabot Flood Mitigation Report \nWe invite you to a public information session this coming Monday\, Nov 4\, from 6-8 p.m. on the third floor of the Willey Building. \nA remote option is available via Zoom: https://us06web.zoom.us/j/82901513181?pwd=Vy3H5KG3U9wKFY5sKuDZQJbRMHiOWe.1 \nCabot’s consultants\, SLR\, will present their modeling of the two tributaries affecting the village\, their findings from applying that tool to measure impacts from a range of extreme rainfall events\, how various mitigation strategies could moderate the flooding impacts\, which then leads to recommendations for town action. \nMost of the time will be for moderated questions and answers with our consultants. Wraps\, salad\, beverages and goodies will be provided. Please join us!
URL:https://cabotvt.us/event/floodresiliencytaskforce/
END:VEVENT
BEGIN:VEVENT
DTSTART;TZID=America/New_York:20241024T181500
DTEND;TZID=America/New_York:20241024T191500
DTSTAMP:20260423T195235
CREATED:20241022T232458Z
LAST-MODIFIED:20241022T232458Z
UID:2130-1729793700-1729797300@cabotvt.us
SUMMARY:Development Review Board Hearing
DESCRIPTION:Variance for Insufficient Setback from Road along with the Lot Less Than 2 acres On South Walden Road\nThursday\, October 24\, 2024 6:15 P.M.\nIn Person or Via Zoom\nWilley Building Meeting Room \nJoin via Zoom:  https://us02web.zoom.us/j/6331160345?pwd=UHFVQTN4ZTh6TUhSMUJ4Q21SdjVoZz09\nMeeting ID: 633 116 0345 \nAgenda: 10/24/24
URL:https://cabotvt.us/event/development-review-board-hearing/
END:VEVENT
BEGIN:VEVENT
DTSTART;TZID=America/New_York:20240928T170000
DTEND;TZID=America/New_York:20240928T183000
DTSTAMP:20260423T195235
CREATED:20240906T214814Z
LAST-MODIFIED:20240906T214814Z
UID:2070-1727542800-1727548200@cabotvt.us
SUMMARY:Cabot Church Turkey Dinner
DESCRIPTION:Enjoy a nice home cooked style turkey dinner presented by the Cabot Church.  Take out only but outdoor dining space is available on the town common.
URL:https://cabotvt.us/event/cabot-church-turkey-dinner/
END:VEVENT
BEGIN:VEVENT
DTSTART;TZID=America/New_York:20240928T120000
DTEND;TZID=America/New_York:20240928T170000
DTSTAMP:20260423T195235
CREATED:20240906T214312Z
LAST-MODIFIED:20240906T214312Z
UID:2064-1727524800-1727542800@cabotvt.us
SUMMARY:Cabot Cheese & Culture Festival
DESCRIPTION:“Come for the Cheese\, Stay for the Culture!”\nPresented by Cabot Arts – visit cabotarts.org for more info!\n \nFeaturing Vermont Cheesemakers and Producers of Cultured Foods and Beverages \nSaturday\, September 28th\, 2024 – 12-5pm \nThe festival is FREE to all participants! \n\n\n\n\n\n\n\n\n\n\n\nOn Saturday\, September 28th\, from 12pm-5pm\, Cabot Arts will host the 2nd annual Cabot Cheese and Culture Festival on the Village Common in historic Cabot\, Vermont. The festival will be offered free of charge to all participants! The Cheese and Culture Festival brings together Vermont cheesemakers\, producers of cultured and fermented foods\, bakers\, brewers\, cider\, wine\, mead makers and charcuterie\, for a day of tasting\, education and celebration. The event will present a robust schedule of demonstrations\, workshops and speakers. Cheese and beverage pairings will be offered. The day will culminate with live music from a favorite local band. The Cheese and Culture Festival will occur alongside Cabot’s annual Fall Foliage Festival which will add pop-up crafts markets\, food trucks\, farm and leaf-peeping tours\, pumpkin carvings\, and children’s activities to the celebratory atmosphere.
URL:https://cabotvt.us/event/cabot-cheese-culture-festival/
END:VEVENT
BEGIN:VEVENT
DTSTART;TZID=America/New_York:20240928T080000
DTEND;TZID=America/New_York:20240928T120000
DTSTAMP:20260423T195235
CREATED:20240906T214548Z
LAST-MODIFIED:20240906T214604Z
UID:2067-1727510400-1727524800@cabotvt.us
SUMMARY:Bulky Item Disposal Day!
DESCRIPTION:
URL:https://cabotvt.us/event/bulky-item-disposal-day/
END:VEVENT
BEGIN:VEVENT
DTSTART;TZID=America/New_York:20240923T100000
DTEND;TZID=America/New_York:20240923T110000
DTSTAMP:20260423T195235
CREATED:20240916T141912Z
LAST-MODIFIED:20240916T141912Z
UID:2080-1727085600-1727089200@cabotvt.us
SUMMARY:Public Information Meeting: Town of Cabot Public Safety Building
DESCRIPTION:The Town of Cabot is applying to the United States Department of Agriculture (USDA) for a Community Facilities Grant from the Rural Development Program to support the construction of a Public Safety Building in Cabot located at 2466 Main Street Cabot\, Vermont. The proposed facility will be permanent site for the Cabot Fire Department which is currently located at a temporary facility as a result of the July 2023 flood. The purpose of the Public Information Meeting is to give the citizenry an opportunity to become acquainted with the proposed project and to comment on such items as an economic and environmental impacts\, service area\, alternatives to the project or any other issues identified by Rural Development. \nDate 10:00 am September 23\, 2024\nThe meeting will be held online via ZOOM: https://us02web.zoom.us/j/6331160345\nPlease email Town of Cabot: selectboard@cabotvt.us for any other questions.
URL:https://cabotvt.us/event/public-information-meeting-town-of-cabot-public-safety-building/
END:VEVENT
BEGIN:VEVENT
DTSTART;TZID=America/New_York:20240913T190000
DTEND;TZID=America/New_York:20240913T213000
DTSTAMP:20260423T195235
CREATED:20240906T214111Z
LAST-MODIFIED:20240906T214111Z
UID:2061-1726254000-1726263000@cabotvt.us
SUMMARY:Community Contra Dance
DESCRIPTION:The Cabot Community Contra Dance will be re-starting on September 13\, with dances on every 2nd Friday through June\, at the Willey Building\, 3084 Main St in Cabot! We are moving the start time a bit earlier to better accommodate families with kids\, as well as anyone else who fades early\, and the dances will now be 7:00-9:30.
URL:https://cabotvt.us/event/community-contra-dance/
END:VEVENT
BEGIN:VEVENT
DTSTART;TZID=America/New_York:20240829T183000
DTEND;TZID=America/New_York:20240829T193000
DTSTAMP:20260423T195235
CREATED:20240828T195608Z
LAST-MODIFIED:20240828T195608Z
UID:2046-1724956200-1724959800@cabotvt.us
SUMMARY:Board of Civil Authority Meeting
DESCRIPTION:In person at Willey Building and on Zoom\nJoin Zoom Meeting: https://us02web.zoom.us/j/6331160345?pwd=UHFVQTN4ZTh6TUhSMUJ4Q21SdjVoZz09\nMeeting ID: 633 116 0345 \nAgenda: 8/29/24
URL:https://cabotvt.us/event/board-of-civil-authority-meeting-2/
END:VEVENT
BEGIN:VEVENT
DTSTART;TZID=America/New_York:20240713T130000
DTEND;TZID=America/New_York:20240713T180000
DTSTAMP:20260423T195235
CREATED:20240703T164847Z
LAST-MODIFIED:20240703T164847Z
UID:1999-1720875600-1720893600@cabotvt.us
SUMMARY:After the Flood: A Wave of Gratitude - Street Festival & Commemoration
DESCRIPTION:
URL:https://cabotvt.us/event/after-the-flood-a-wave-of-gratitude-street-festival-commemoration/
END:VEVENT
BEGIN:VEVENT
DTSTART;TZID=America/New_York:20240704T080000
DTEND;TZID=America/New_York:20240704T140000
DTSTAMP:20260423T195235
CREATED:20240703T163207Z
LAST-MODIFIED:20240703T163207Z
UID:1992-1720080000-1720101600@cabotvt.us
SUMMARY:Cabot 4th of July Celebration & Parade
DESCRIPTION:
URL:https://cabotvt.us/event/cabot-4th-of-july-celebration-parade/
END:VEVENT
BEGIN:VEVENT
DTSTART;TZID=America/New_York:20240520T153000
DTEND;TZID=America/New_York:20240520T153000
DTSTAMP:20260423T195235
CREATED:20240517T160659Z
LAST-MODIFIED:20240517T160727Z
UID:1950-1716219000-1716219000@cabotvt.us
SUMMARY:Property Valuation Grievance Deadline
DESCRIPTION:For those who wish to grieve a property valuation\, you may use this application to assist in preparing a grievance. Please use one application for each property appealed. Listers will contact grievant to schedule a requested hearing date and time. Appeals will be heard by scheduled appointment May 20\, 2024. \nReturn completed form by mail / email (see above) or Town of Cabot drop box at rear of Willey Building not later than May 20\, 2024\, 3:30 p.m. \n\nFORM: https://cabotvt.us/wp-content/uploads/2024/05/2024-Application-for-Property-Valuation-Grievance.pdf
URL:https://cabotvt.us/event/property-valuation-grievance-deadline/
END:VEVENT
BEGIN:VEVENT
DTSTART;TZID=America/New_York:20240429T180000
DTEND;TZID=America/New_York:20240429T190000
DTSTAMP:20260423T195235
CREATED:20240428T021713Z
LAST-MODIFIED:20240428T021713Z
UID:1928-1714413600-1714417200@cabotvt.us
SUMMARY:Willey Building Committee Meeting
DESCRIPTION:Zoom Link: https://us02web.zoom.us/j/6331160345?pwd=UHFVQTN4ZTh6TUhSMUJ4Q21SdjVoZz09 \nAgenda: 04/29/24 – Willey Building Agenda
URL:https://cabotvt.us/event/willey-building-committee-meeting/
END:VEVENT
BEGIN:VEVENT
DTSTART;TZID=America/New_York:20240423T190000
DTEND;TZID=America/New_York:20240423T200000
DTSTAMP:20260423T195235
CREATED:20240417T181010Z
LAST-MODIFIED:20240417T181010Z
UID:1920-1713898800-1713902400@cabotvt.us
SUMMARY:Cemetery Meeting
DESCRIPTION:CEMETERY MEETING AGENDA\nTUESDAY\, APRIL 23\, 2024\, 7:00 p.m.\nIn person in the Willey Building Meeting Room \n                          \n\n\nCall Meeting to Order\nApprove Agenda\nApprove Minutes from October\, 2023\nDiscuss Finances\nMaintenance of Cemeteries\nTree Removal\nOther Business\nAdjourn
URL:https://cabotvt.us/event/cemetery-meeting/
END:VEVENT
BEGIN:VEVENT
DTSTART;TZID=America/New_York:20240418T180000
DTEND;TZID=America/New_York:20240418T200000
DTSTAMP:20260423T195235
CREATED:20240406T161148Z
LAST-MODIFIED:20240406T161223Z
UID:1905-1713463200-1713470400@cabotvt.us
SUMMARY:Development Review Board - Notice of Hearings
DESCRIPTION:The Town of Cabot Development Review Board will hold hearings on Thursday\, April 18\, starting at 6:00 P.M. in the Willey Building meeting room either in person or via zoom for the following: \n  \n1. 6:00 p.m.: Damien and Jennifer Dunham-variance for subdividing 2 acres for building located at 178 Houston Hill Road\, Cabot \n2. 6:15 p.m.: Norma Bermingham-subdividing a 2-acre subdividing property located at 118 Bermingham Road\, Cabot \n3. 6:30 p.m.: Idlewild\, Inc.-variance for a free-standing deck on concrete blocks located behind Harry’s Hardware\, Cabot \n  \nIf you have any questions or comments\, please send to Cabot Town Clerk at tc@cabotvt.us or call with any questions at 802 563-2279. \nBetty Ritter\, \nCabot Town Clerk/Treasurer
URL:https://cabotvt.us/event/development-review-board-notice-of-hearings/
END:VEVENT
BEGIN:VEVENT
DTSTART;TZID=America/New_York:20240108T180000
DTEND;TZID=America/New_York:20240108T193000
DTSTAMP:20260423T195235
CREATED:20230524T180600Z
LAST-MODIFIED:20240104T214452Z
UID:1067-1704736800-1704742200@cabotvt.us
SUMMARY:Willey Building Committee
DESCRIPTION:01/08/24 Willey Building Agenda
URL:https://cabotvt.us/event/willey-building-committee/
END:VEVENT
BEGIN:VEVENT
DTSTART;TZID=America/New_York:20231218T180000
DTEND;TZID=America/New_York:20231218T200000
DTSTAMP:20260423T195235
CREATED:20230601T192356Z
LAST-MODIFIED:20231218T153546Z
UID:1082-1702922400-1702929600@cabotvt.us
SUMMARY:Planning Commission
DESCRIPTION:12/18/23 Planning Commission Agenda
URL:https://cabotvt.us/event/planning-commission/
END:VEVENT
BEGIN:VEVENT
DTSTART;TZID=America/New_York:20231212T163000
DTEND;TZID=America/New_York:20231212T173000
DTSTAMP:20260423T195235
CREATED:20231016T042739Z
LAST-MODIFIED:20231207T214835Z
UID:1554-1702398600-1702402200@cabotvt.us
SUMMARY:Board of Abatement Hearing
DESCRIPTION:12/12/23 – Agenda \nZoom Meeting Link: https://us02web.zoom.us/j/6331160345
URL:https://cabotvt.us/event/board-of-abatement-hearing/
END:VEVENT
BEGIN:VEVENT
DTSTART;TZID=America/New_York:20231211T150000
DTEND;TZID=America/New_York:20231211T190000
DTSTAMP:20260423T195235
CREATED:20231104T144259Z
LAST-MODIFIED:20231207T214703Z
UID:1595-1702306800-1702321200@cabotvt.us
SUMMARY:Selectboard Budget Meeting
DESCRIPTION:Zoom Meeting Link: https://us02web.zoom.us/j/6331160345 \n12/11/23 – Budget
URL:https://cabotvt.us/event/selectboard-budget-meeting/
END:VEVENT
BEGIN:VEVENT
DTSTART;TZID=America/New_York:20231120T183000
DTEND;TZID=America/New_York:20231120T200000
DTSTAMP:20260423T195235
CREATED:20231112T035242Z
LAST-MODIFIED:20231112T035242Z
UID:1624-1700505000-1700510400@cabotvt.us
SUMMARY:Post Flood Roundtable Discussion
DESCRIPTION:Hello Neighbors\,\nThe Selectboard will convene a Community Roundtable Discussion at 6:30PM on Monday November 20th at the Willey Building for all residents and business owners in Cabot who were affected by the July 10th 2023 flood.  The goal of this ‘Special Meeting’ is to discuss ‘lessons learned’ as we look back on that terrible day and to -together- consider strategic preparations against the possibility of future events.\n\n \n\nThis conversation will be a great opportunity for Cabot community members and businesses to share stories from a flood that altered all of our lives.  The Town will give updates on the progress of repairs and what flood mitigation steps are already under development.  Additionally\, the Flood Resiliency Taskforce will provide a status update on their work and will share compelling materials (maps\, pictures\, and data) to inform a discussion of how we might best work together to prepare for the future.\n\n \n\nWe hope this Community Roundtable Discussion will turn into a regular event where we can share information\, engage in conversation\, and help each other ‘think through’ a variety of important community topics.\n\n \n\nZoom connection details for will be provided closer to the date.\n\n \n\nWe look forward to seeing you all at the Willey Building on Monday November 20th at 6:30PM.\n\n \n\nMike Hogan\, Chair Cabot Selectboard and Flood Relief Coordinator. 
URL:https://cabotvt.us/event/post-flood-roundtable-discussion/
END:VEVENT
BEGIN:VEVENT
DTSTART;TZID=America/New_York:20231101T190000
DTEND;TZID=America/New_York:20231101T210000
DTSTAMP:20260423T195235
CREATED:20231026T201850Z
LAST-MODIFIED:20231026T201850Z
UID:1591-1698865200-1698872400@cabotvt.us
SUMMARY:Cabot Fire Department
DESCRIPTION:11/01/23 Agenda
URL:https://cabotvt.us/event/cabot-fire-department/
END:VEVENT
BEGIN:VEVENT
DTSTART;TZID=America/New_York:20231016T183000
DTEND;TZID=America/New_York:20231016T190000
DTSTAMP:20260423T195235
CREATED:20231016T042853Z
LAST-MODIFIED:20231016T042853Z
UID:1557-1697481000-1697482800@cabotvt.us
SUMMARY:Board of Civil Authority Meeting
DESCRIPTION:Agenda: 10/16/23
URL:https://cabotvt.us/event/board-of-civil-authority-meeting/
END:VEVENT
BEGIN:VEVENT
DTSTART;TZID=America/New_York:20231010T190000
DTEND;TZID=America/New_York:20231010T200000
DTSTAMP:20260423T195235
CREATED:20231005T204428Z
LAST-MODIFIED:20231005T204443Z
UID:1528-1696964400-1696968000@cabotvt.us
SUMMARY:Cabot Cemetery Commission
DESCRIPTION:Meeting will be at the Willey Building at 7 p.m. \nDiscuss accomplishments of 2023.
URL:https://cabotvt.us/event/cabot-cemetery-commission/
END:VEVENT
BEGIN:VEVENT
DTSTART;TZID=America/New_York:20230919T180000
DTEND;TZID=America/New_York:20230919T200000
DTSTAMP:20260423T195235
CREATED:20230714T213617Z
LAST-MODIFIED:20230914T172447Z
UID:1233-1695146400-1695153600@cabotvt.us
SUMMARY:Selectboard Meeting
DESCRIPTION:Zoom Meeting Link: https://us02web.zoom.us/j/6331160345 \n09/19/23 Agenda
URL:https://cabotvt.us/event/selectboard-meeting-5/
END:VEVENT
BEGIN:VEVENT
DTSTART;TZID=America/New_York:20230830T180000
DTEND;TZID=America/New_York:20230830T200000
DTSTAMP:20260423T195235
CREATED:20230728T183214Z
LAST-MODIFIED:20230828T204253Z
UID:1346-1693418400-1693425600@cabotvt.us
SUMMARY:Special Selectboard Meeting
DESCRIPTION:08/30/23_Agenda
URL:https://cabotvt.us/event/emergency-selectboard-meeting/
END:VEVENT
BEGIN:VEVENT
DTSTART;VALUE=DATE:20230729
DTEND;VALUE=DATE:20230730
DTSTAMP:20260423T195235
CREATED:20230521T213313Z
LAST-MODIFIED:20230727T195025Z
UID:886-1690588800-1690675199@cabotvt.us
SUMMARY:Cabot Arts & Music Festival
DESCRIPTION:A multi-genre music festival featuring 10 Bands\, Community Art Projects\, Dance\, Kids Activities\, Food Trucks\, and Craft Vendors.  Hosted by Cabot Arts\, Inc on the Village Common. \nMore info: https://www.cabotarts.org/arts-and-music-festival
URL:https://cabotvt.us/event/cabot-arts-music-festival/
END:VEVENT
BEGIN:VEVENT
DTSTART;TZID=America/New_York:20230725T160000
DTEND;TZID=America/New_York:20230725T170000
DTSTAMP:20260423T195235
CREATED:20230711T191459Z
LAST-MODIFIED:20230724T215548Z
UID:1188-1690300800-1690304400@cabotvt.us
SUMMARY:Cabot Selectboard Emergency Meeting
DESCRIPTION:07/25/23 EMERGENCY SELECTBOARD  AGENDA \nZoom Meeting Link:  https://us02web.zoom.us/j/6331160345 \n 
URL:https://cabotvt.us/event/cabot-selectboard-emergency-meeting/
END:VEVENT
BEGIN:VEVENT
DTSTART;TZID=America/New_York:20230518T180000
DTEND;TZID=America/New_York:20230518T190000
DTSTAMP:20260423T195235
CREATED:20230510T081952Z
LAST-MODIFIED:20230510T081952Z
UID:491-1684432800-1684436400@cabotvt.us
SUMMARY:Recreation Committee Meeting
DESCRIPTION:
URL:https://cabotvt.us/event/recreation-committee-meeting/
END:VEVENT
BEGIN:VEVENT
DTSTART;TZID=UTC:20230503T080000
DTEND;TZID=UTC:20230503T090000
DTSTAMP:20260423T195235
CREATED:20230426T233651Z
LAST-MODIFIED:20230430T231458Z
UID:45-1683100800-1683104400@cabotvt.us
SUMMARY:Test Event
DESCRIPTION:Test Event – \nLinked File Test: Town of Cabot Website Proposal
URL:https://cabotvt.us/event/test-event/
END:VEVENT
END:VCALENDAR